BEGIN:VCALENDAR
VERSION:2.0
PRODID:-//hacksw/handcal//NONSGML v1.0//EN
BEGIN:VEVENT
SUMMARY:U15F
UID:e46b3114-5476-4a20-956a-5a2aae8b4fbb
DTSTART:20260417T170000Z
DTEND:20260417T183000Z
LOCATION:Localisation Salle OMNISPORTS  
CATEGORIES:Sportif
STATUS:
URL;VALUE=URI:https://www.bcfmm.com/evenements/2026/04/17/u15f-2374210
END:VEVENT
END:VCALENDAR
