BEGIN:VCALENDAR
VERSION:2.0
PRODID:-//hacksw/handcal//NONSGML v1.0//EN
BEGIN:VEVENT
SUMMARY:U18F
UID:7318e665-cba0-401d-ae7f-b70533e81b45
DTSTART:20260415T163000Z
DTEND:20260415T180000Z
LOCATION:Localisation Gymnase R. DACOURY  
CATEGORIES:Sportif
STATUS:
URL;VALUE=URI:https://www.bcfmm.com/evenements/2026/04/15/u18f-2374220
END:VEVENT
END:VCALENDAR
