BEGIN:VCALENDAR
VERSION:2.0
PRODID:-//hacksw/handcal//NONSGML v1.0//EN
BEGIN:VEVENT
SUMMARY:U18F
UID:13200a22-8e31-4c61-a97d-a0bb8bc99751
DTSTART:20260320T230000Z
DTEND:20260321T230000Z
LOCATION:Localisation Halle des sports SIVOM  
CATEGORIES:Sportif
STATUS:
URL;VALUE=URI:https://www.bcfmm.com/evenements/2026/03/21/u18f-2374217
END:VEVENT
END:VCALENDAR
