BEGIN:VCALENDAR
VERSION:2.0
PRODID:-//hacksw/handcal//NONSGML v1.0//EN
BEGIN:VEVENT
SUMMARY:Chasse aux oeufs de Mery sur oise
UID:5f894362-5736-493a-98b8-36ad9514889b
DTSTART:20230410T080000Z
DTEND:20230410T110000Z
LOCATION:Localisation   
CATEGORIES:Manifestation
STATUS:
DESCRIPTION:<p style="text-align:center;"><strong><span
 style="font-size:20px;">Le BCFMM participe a la chasse aux oeufs de
 Mery sur oise</span></strong></p>
 
 <p
 style="text-align:center;"><strong><span style="font-size:20px;">Le
 Lundi 10 Avril de 10h a 13h</span></strong></p>
 
 <p
 style="text-align:center;"><strong><span style="font-size:20px;">Parc
 du chateau de Mery sur oise</span></strong></p>
 
 <p
 style="text-align:center;"><strong><span
 style="font-size:20px;">Venez participer a cet evenement de la ville,
 et rencontrez nous sur le stand Basket !</span></strong></p>
 
URL;VALUE=URI:https://www.bcfmm.com/evenements/2023/04/10/chasse-aux-oeufs-de-mery-sur-oise-1800006
END:VEVENT
END:VCALENDAR
